BEGIN:VCALENDAR
VERSION:2.0
PRODID:-//ACG//Events//EN
CALSCALE:GREGORIAN
METHOD:PUBLISH
BEGIN:VTIMEZONE
TZID:America/Phoenix
BEGIN:STANDARD
DTSTART:19700101T060000
TZOFFSETTO:-0700
TZOFFSETFROM:-0700
END:STANDARD
END:VTIMEZONE
BEGIN:VEVENT
UID:2024-JANUARY-ACG-ARIZONA-BREAKFAST-FEATURING-ECONOMIC-UPDATE-AND-F
 ORECAST
DTSTART;TZID=America/Phoenix:20250128T070047
DTEND;TZID=America/Phoenix:20250128T090047
STATUS:CONFIRMED
SUMMARY:2025 January ACG Arizona Breakfast Featuring Economic Update a
 nd Forecast
DESCRIPTION:
LOCATION:Arizona Biltmore Resort & Spa - Aztec Ballroom\n2400 East Mis
 souri Avenue\nPhoenix\\, AZ 85016
URL:https://www.acg.org/arizona/events/2025-january-acg-arizona-breakf
 ast-featuring-economic-update-and-forecast
DTSTAMP:20260422T173107Z
END:VEVENT
END:VCALENDAR
