BEGIN:VCALENDAR
VERSION:2.0
PRODID:-//ACG//Events//EN
CALSCALE:GREGORIAN
METHOD:PUBLISH
BEGIN:VTIMEZONE
TZID:America/Los_Angeles
BEGIN:STANDARD
DTSTART:19701025T090000
TZOFFSETTO:-0800
TZOFFSETFROM:-0700
RRULE:FREQ=YEARLY;BYMONTH=11;BYDAY=1SU
END:STANDARD
BEGIN:DAYLIGHT
DTSTART:19700426T100000
TZOFFSETTO:-0700
TZOFFSETFROM:-0800
RRULE:FREQ=YEARLY;BYMONTH=3;BYDAY=2SU
END:DAYLIGHT
END:VTIMEZONE
BEGIN:VEVENT
UID:10TH-ANNUAL-MAMMOTH-DEALS-SKI-CONFERENCE
DTSTART;TZID=America/Los_Angeles:20250202T173058
DTEND;TZID=America/Los_Angeles:20250204T120028
STATUS:CONFIRMED
SUMMARY:10th Annual Mammoth Deals Ski Conference 02.02.25
DESCRIPTION:
LOCATION:Mammoth Ski Resort\n1111 Forest Trail\nMammoth Lakes\\, CA 93546
URL:https://www.acg.org/occ/events/10th-annual-mammoth-deals-ski-confe
 rence-020225
DTSTAMP:20260422T155100Z
END:VEVENT
END:VCALENDAR
