BEGIN:VCALENDAR
VERSION:2.0
PRODID:-//ACG//Events//EN
CALSCALE:GREGORIAN
METHOD:PUBLISH
BEGIN:VTIMEZONE
TZID:America/New_York
BEGIN:STANDARD
DTSTART:19701025T060000
TZOFFSETTO:-0500
TZOFFSETFROM:-0400
RRULE:FREQ=YEARLY;BYMONTH=11;BYDAY=1SU
END:STANDARD
BEGIN:DAYLIGHT
DTSTART:19700426T070000
TZOFFSETTO:-0400
TZOFFSETFROM:-0500
RRULE:FREQ=YEARLY;BYMONTH=3;BYDAY=2SU
END:DAYLIGHT
END:VTIMEZONE
BEGIN:VEVENT
UID:2025-ACG-PHILADELPHIA-PHILADELPHIA-PHILLIES-VS-COLORADO-ROCKIES
DTSTART;TZID=America/New_York:20250403T130554
DTEND;TZID=America/New_York:20250403T170054
STATUS:CONFIRMED
SUMMARY:2025 ACG Philadelphia | Philadelphia Phillies vs. Colorado Rockies
DESCRIPTION:
LOCATION:Citizens Bank Park\n1 Citizens Bank Way\nPhiladelphia\\, PA 19148
URL:https://www.acg.org/philadelphia/events/2025-acg-philadelphia-phil
 adelphia-phillies-vs-colorado-rockies
DTSTAMP:20260422T060703Z
END:VEVENT
END:VCALENDAR
