BEGIN:VCALENDAR
VERSION:2.0
PRODID:-//ACG//Events//EN
CALSCALE:GREGORIAN
METHOD:PUBLISH
BEGIN:VTIMEZONE
TZID:America/New_York
BEGIN:STANDARD
DTSTART:19701025T060000
TZOFFSETTO:-0500
TZOFFSETFROM:-0400
RRULE:FREQ=YEARLY;BYMONTH=11;BYDAY=1SU
END:STANDARD
BEGIN:DAYLIGHT
DTSTART:19700426T070000
TZOFFSETTO:-0400
TZOFFSETFROM:-0500
RRULE:FREQ=YEARLY;BYMONTH=3;BYDAY=2SU
END:DAYLIGHT
END:VTIMEZONE
BEGIN:VEVENT
UID:ACG-NJ-WOMEN-OF-LEADERSHIP-PICKLEBALL-MARCH-12-2025
DTSTART;TZID=America/New_York:20250312T160033
DTEND;TZID=America/New_York:20250312T190035
STATUS:CONFIRMED
SUMMARY:ACG NJ Women of Leadership Pickleball  |  March 12\, 2025
DESCRIPTION:
LOCATION:Pickleball Palace\n9 Whippany Road\nHanover\\, NJ 07981
URL:https://www.acg.org/newjersey/events/acg-nj-women-leadership-pickl
 eball-march-12-2025
DTSTAMP:20260422T095720Z
END:VEVENT
END:VCALENDAR
