BEGIN:VCALENDAR
VERSION:2.0
PRODID:-//ACG//Events//EN
CALSCALE:GREGORIAN
METHOD:PUBLISH
BEGIN:VTIMEZONE
TZID:America/Los_Angeles
BEGIN:STANDARD
DTSTART:19701025T090000
TZOFFSETTO:-0800
TZOFFSETFROM:-0700
RRULE:FREQ=YEARLY;BYMONTH=11;BYDAY=1SU
END:STANDARD
BEGIN:DAYLIGHT
DTSTART:19700426T100000
TZOFFSETTO:-0700
TZOFFSETFROM:-0800
RRULE:FREQ=YEARLY;BYMONTH=3;BYDAY=2SU
END:DAYLIGHT
END:VTIMEZONE
BEGIN:VEVENT
UID:ACG-SEATTLE-I-2025-M-A-UPDATE-EVENT
DTSTART;TZID=America/Los_Angeles:20250115T120037
DTEND;TZID=America/Los_Angeles:20250115T140037
STATUS:CONFIRMED
SUMMARY:ACG Seattle I 2025 M&A Update Event
DESCRIPTION:
LOCATION:Fairmont Olympic Hotel - Garden Court\, 411 University Street
 \, Seattle\n411 University Street\nSeattle\\, WA 98101
URL:https://www.acg.org/seattle/events/acg-seattle-i-2025-ma-update-event
DTSTAMP:20260422T190506Z
END:VEVENT
END:VCALENDAR
