BEGIN:VCALENDAR
VERSION:2.0
PRODID:-//ACG//Events//EN
CALSCALE:GREGORIAN
METHOD:PUBLISH
BEGIN:VTIMEZONE
TZID:US/Mountain
BEGIN:STANDARD
DTSTART:19701025T080000
TZOFFSETTO:-0700
TZOFFSETFROM:-0600
RRULE:FREQ=YEARLY;BYMONTH=11;BYDAY=1SU
END:STANDARD
BEGIN:DAYLIGHT
DTSTART:19700426T090000
TZOFFSETTO:-0600
TZOFFSETFROM:-0700
RRULE:FREQ=YEARLY;BYMONTH=3;BYDAY=2SU
END:DAYLIGHT
END:VTIMEZONE
BEGIN:VEVENT
UID:UTAH-WPN-JANUARY-2025-LUNCH-EVENT
DTSTART;TZID=US/Mountain:20250123T113028
DTEND;TZID=US/Mountain:20250123T130046
STATUS:CONFIRMED
SUMMARY:Utah\, WPN January 2025 Lunch Event
DESCRIPTION:
LOCATION:World Trade Utah\n60 South Temple\nSalt Lake City\\, UT 84111
URL:https://www.acg.org/utah/events/utah-wpn-january-2025-lunch-event
DTSTAMP:20260419T142152Z
END:VEVENT
END:VCALENDAR
