BEGIN:VCALENDAR
VERSION:2.0
PRODID:-//ACG//Events//EN
CALSCALE:GREGORIAN
METHOD:PUBLISH
BEGIN:VTIMEZONE
TZID:America/New_York
BEGIN:STANDARD
DTSTART:19701025T060000
TZOFFSETTO:-0500
TZOFFSETFROM:-0400
RRULE:FREQ=YEARLY;BYMONTH=11;BYDAY=1SU
END:STANDARD
BEGIN:DAYLIGHT
DTSTART:19700426T070000
TZOFFSETTO:-0400
TZOFFSETFROM:-0500
RRULE:FREQ=YEARLY;BYMONTH=3;BYDAY=2SU
END:DAYLIGHT
END:VTIMEZONE
BEGIN:VEVENT
UID:2025-ACG-PHILADELPHIA-DIVERSE-DEALMAKERS-NETWORK-DINNER-SERIES-MARCH-13
DTSTART;TZID=America/New_York:20250313T180035
DTEND;TZID=America/New_York:20250313T200035
STATUS:CONFIRMED
SUMMARY:2025 ACG Philadelphia | Diverse Dealmakers' Network Dinner Ser
 ies\, March 13
DESCRIPTION:
LOCATION:The Blue Elephant\n110 North Wayne Avenue\nWayne\\, PA 19087
URL:https://www.acg.org/philadelphia/events/2025-acg-philadelphia-dive
 rse-dealmakers-network-dinner-series-march-13
DTSTAMP:20260422T081128Z
END:VEVENT
END:VCALENDAR
