BEGIN:VCALENDAR
VERSION:2.0
PRODID:-//ACG//Events//EN
CALSCALE:GREGORIAN
METHOD:PUBLISH
BEGIN:VTIMEZONE
TZID:America/New_York
BEGIN:STANDARD
DTSTART:19701025T060000
TZOFFSETTO:-0500
TZOFFSETFROM:-0400
RRULE:FREQ=YEARLY;BYMONTH=11;BYDAY=1SU
END:STANDARD
BEGIN:DAYLIGHT
DTSTART:19700426T070000
TZOFFSETTO:-0400
TZOFFSETFROM:-0500
RRULE:FREQ=YEARLY;BYMONTH=3;BYDAY=2SU
END:DAYLIGHT
END:VTIMEZONE
BEGIN:VEVENT
UID:2025-ACG-PHILADELPHIA-JOINT-DINNER-FOR-STRATEGIC-ACQUIRERS-AND-PE-
 BACKED-EXECUTIVES
DTSTART;TZID=America/New_York:20250304T180040
DTEND;TZID=America/New_York:20250304T200002
STATUS:CONFIRMED
SUMMARY:2025 ACG Philadelphia | Joint Dinner for Strategic Acquirers a
 nd PE-Backed Executives
DESCRIPTION:
LOCATION:Autograph Brasserie\n503 West Lancaster Avenue\nWayne\\, PA 19087
URL:https://www.acg.org/philadelphia/events/2025-acg-philadelphia-join
 t-dinner-strategic-acquirers-and-pe-backed-executives
DTSTAMP:20260422T115904Z
END:VEVENT
END:VCALENDAR
