BEGIN:VCALENDAR
VERSION:2.0
PRODID:-//ACG//Events//EN
CALSCALE:GREGORIAN
METHOD:PUBLISH
BEGIN:VTIMEZONE
TZID:America/Detroit
BEGIN:STANDARD
DTSTART:19700101T060000
TZOFFSETTO:-0500
TZOFFSETFROM:-0500
END:STANDARD
END:VTIMEZONE
BEGIN:VEVENT
UID:142081
DTSTART;TZID=America/Detroit:20250402T080000
DTEND;TZID=America/Detroit:20250402T090000
STATUS:CONFIRMED
SUMMARY:Members-only Coffee & Conversation
DESCRIPTION:
LOCATION:Embassy Suites\nEmbassy Suites\n710 Monroe Ave\, NW\nGrand Ra
 pids\\, MI 49503
URL:https://www.acg.org/wmich/events/members-only-coffee-conversation-2
DTSTAMP:20260422T060837Z
END:VEVENT
END:VCALENDAR
