BEGIN:VCALENDAR
VERSION:2.0
PRODID:-//ACG//Events//EN
CALSCALE:GREGORIAN
METHOD:PUBLISH
BEGIN:VTIMEZONE
TZID:America/Detroit
BEGIN:STANDARD
DTSTART:19700101T060000
TZOFFSETTO:-0500
TZOFFSETFROM:-0500
END:STANDARD
END:VTIMEZONE
BEGIN:VEVENT
UID:142083
DTSTART;TZID=America/Detroit:20251023T080000
DTEND;TZID=America/Detroit:20251023T090000
STATUS:CONFIRMED
SUMMARY:Members-only Coffee & Conversation
DESCRIPTION:
LOCATION:Ferris Coffee & Nut\nFerris Coffee & Nut\n839 Seward Ave\, NW
 \nGrand Rapids\\, MI 49503
URL:https://www.acg.org/wmich/events/members-only-coffee-conversation-4
DTSTAMP:20260421T010239Z
END:VEVENT
END:VCALENDAR
