BEGIN:VCALENDAR
VERSION:2.0
PRODID:-//ACG//Events//EN
CALSCALE:GREGORIAN
METHOD:PUBLISH
BEGIN:VTIMEZONE
TZID:America/Detroit
BEGIN:STANDARD
DTSTART:19700101T060000
TZOFFSETTO:-0500
TZOFFSETFROM:-0500
END:STANDARD
END:VTIMEZONE
BEGIN:VEVENT
UID:142084
DTSTART;TZID=America/Detroit:20251113T080000
DTEND;TZID=America/Detroit:20251113T090000
STATUS:CONFIRMED
SUMMARY:Members-only Coffee & Conversation
DESCRIPTION:
LOCATION:Ferris Coffee & Nut\nFerris Coffee & Nut\n839 Seward Ave\, NW
 \nGrand Rapids\\, MI 49503
URL:https://www.acg.org/wmich/events/members-only-coffee-conversation-5
DTSTAMP:20260420T190036Z
END:VEVENT
END:VCALENDAR
