BEGIN:VCALENDAR
VERSION:2.0
PRODID:-//ACG//Events//EN
CALSCALE:GREGORIAN
METHOD:PUBLISH
BEGIN:VTIMEZONE
TZID:America/Los_Angeles
BEGIN:STANDARD
DTSTART:19701025T090000
TZOFFSETTO:-0800
TZOFFSETFROM:-0700
RRULE:FREQ=YEARLY;BYMONTH=11;BYDAY=1SU
END:STANDARD
BEGIN:DAYLIGHT
DTSTART:19700426T100000
TZOFFSETTO:-0700
TZOFFSETFROM:-0800
RRULE:FREQ=YEARLY;BYMONTH=3;BYDAY=2SU
END:DAYLIGHT
END:VTIMEZONE
BEGIN:VEVENT
UID:ACG-SF-VIRTUAL-MEET-GREET-NETWORKING-SESSION
DTSTART;TZID=America/Los_Angeles:20250115T120054
DTEND;TZID=America/Los_Angeles:20250115T130054
STATUS:CONFIRMED
SUMMARY:ACG SF | Virtual Meet & Greet Networking Session
DESCRIPTION:
LOCATION:Virtual by Zoom\n
URL:https://www.acg.org/sanfrancisco/events/acg-sf-virtual-meet-greet-
 networking-session
DTSTAMP:20260422T191308Z
END:VEVENT
END:VCALENDAR
