BEGIN:VCALENDAR
VERSION:2.0
PRODID:-//ACG//Events//EN
CALSCALE:GREGORIAN
METHOD:PUBLISH
BEGIN:VTIMEZONE
TZID:America/Detroit
BEGIN:STANDARD
DTSTART:19700101T060000
TZOFFSETTO:-0500
TZOFFSETFROM:-0500
END:STANDARD
END:VTIMEZONE
BEGIN:VEVENT
UID:142115
DTSTART;TZID=America/Detroit:20250312T153000
DTEND;TZID=America/Detroit:20250312T173000
STATUS:CONFIRMED
SUMMARY:Women's Networking: Corks & Conversations
DESCRIPTION:
LOCATION:House of Wine \nHouse of Wine\n53 Monroe Center Avenue\nGrand
  Rapids\\, MI 49503
URL:https://www.acg.org/wmich/events/womens-networking-corks-conversat
 ions-0
DTSTAMP:20260422T114527Z
END:VEVENT
END:VCALENDAR
