BEGIN:VCALENDAR
VERSION:2.0
PRODID:-//ACG//Events//EN
CALSCALE:GREGORIAN
METHOD:PUBLISH
BEGIN:VTIMEZONE
TZID:America/Detroit
BEGIN:STANDARD
DTSTART:19700101T060000
TZOFFSETTO:-0500
TZOFFSETFROM:-0500
END:STANDARD
END:VTIMEZONE
BEGIN:VEVENT
UID:142121
DTSTART;TZID=America/Detroit:20250319T153000
DTEND;TZID=America/Detroit:20250319T173000
STATUS:CONFIRMED
SUMMARY:March Signature Program
DESCRIPTION:
LOCATION:Embassy Suites\nEmbassy Suites\n710 Monroe Ave\, NW\nGrand Ra
 pids\\, MI 49504
URL:https://www.acg.org/wmich/events/march-signature-program-0
DTSTAMP:20260422T094703Z
END:VEVENT
END:VCALENDAR
