BEGIN:VCALENDAR
VERSION:2.0
PRODID:-//ACG//Events//EN
CALSCALE:GREGORIAN
METHOD:PUBLISH
BEGIN:VTIMEZONE
TZID:America/Detroit
BEGIN:STANDARD
DTSTART:19700101T060000
TZOFFSETTO:-0500
TZOFFSETFROM:-0500
END:STANDARD
END:VTIMEZONE
BEGIN:VEVENT
UID:142127
DTSTART;TZID=America/Detroit:20250416T160000
DTEND;TZID=America/Detroit:20250416T180000
STATUS:CONFIRMED
SUMMARY:NextGen April Happy Hour
DESCRIPTION:
LOCATION:Knoop by Canopy\nKnoop by Canopy\n131 Ionia Street\, SW\nGran
 d Rapids\\, MI 49503
URL:https://www.acg.org/wmich/events/nextgen-april-happy-hour
DTSTAMP:20260422T060836Z
END:VEVENT
END:VCALENDAR
