BEGIN:VCALENDAR
VERSION:2.0
PRODID:-//ACG//Events//EN
CALSCALE:GREGORIAN
METHOD:PUBLISH
BEGIN:VTIMEZONE
TZID:America/Los_Angeles
BEGIN:STANDARD
DTSTART:19701025T090000
TZOFFSETTO:-0800
TZOFFSETFROM:-0700
RRULE:FREQ=YEARLY;BYMONTH=11;BYDAY=1SU
END:STANDARD
BEGIN:DAYLIGHT
DTSTART:19700426T100000
TZOFFSETTO:-0700
TZOFFSETFROM:-0800
RRULE:FREQ=YEARLY;BYMONTH=3;BYDAY=2SU
END:DAYLIGHT
END:VTIMEZONE
BEGIN:VEVENT
UID:WOMEN-IN-LEADERSHIP-INVITE-ALL-TO-ENTERPRISE-HOUR
DTSTART;TZID=America/Los_Angeles:20250206T173039
DTEND;TZID=America/Los_Angeles:20250206T193023
STATUS:CONFIRMED
SUMMARY:ACGOC 2025 - Women in Leadership Invite all to Enterprise Hour
  - 02.06.2025
DESCRIPTION:
LOCATION:The Bungalow\n2441 East Coast Highway\nNewport Beach\\, CA 92625
URL:https://www.acg.org/occ/events/acgoc-2025-women-leadership-invite-
 all-enterprise-hour-02062025
DTSTAMP:20260422T155041Z
END:VEVENT
END:VCALENDAR
