BEGIN:VCALENDAR
VERSION:2.0
PRODID:-//ACG//Events//EN
CALSCALE:GREGORIAN
METHOD:PUBLISH
BEGIN:VTIMEZONE
TZID:America/Detroit
BEGIN:STANDARD
DTSTART:19700101T060000
TZOFFSETTO:-0500
TZOFFSETFROM:-0500
END:STANDARD
END:VTIMEZONE
BEGIN:VEVENT
UID:ACG-DETROIT-INSPIRE-IGNITE-2025-WOMEN-S-FORUM-LUNCHEON
DTSTART;TZID=America/Detroit:20250307T110003
DTEND;TZID=America/Detroit:20250307T133038
STATUS:CONFIRMED
SUMMARY:ACG Detroit | Inspire & Ignite Luncheon
DESCRIPTION:
LOCATION:Book Tower Detroit\n1265 Washington Boulevard\nDetroit\\, MI 48226
URL:https://www.acg.org/detroit/events/acg-detroit-inspire-ignite-luncheon
DTSTAMP:20260420T203835Z
END:VEVENT
END:VCALENDAR
