BEGIN:VCALENDAR
VERSION:2.0
PRODID:-//ACG//Events//EN
CALSCALE:GREGORIAN
METHOD:PUBLISH
BEGIN:VTIMEZONE
TZID:America/Los_Angeles
BEGIN:STANDARD
DTSTART:19701025T090000
TZOFFSETTO:-0800
TZOFFSETFROM:-0700
RRULE:FREQ=YEARLY;BYMONTH=11;BYDAY=1SU
END:STANDARD
BEGIN:DAYLIGHT
DTSTART:19700426T100000
TZOFFSETTO:-0700
TZOFFSETFROM:-0800
RRULE:FREQ=YEARLY;BYMONTH=3;BYDAY=2SU
END:DAYLIGHT
END:VTIMEZONE
BEGIN:VEVENT
UID:ACG-SEATTLE-2025-CRYSTAL-MOUNTAIN-SKI-DAY
DTSTART;TZID=America/Los_Angeles:20250206T073056
DTEND;TZID=America/Los_Angeles:20250206T150011
STATUS:CONFIRMED
SUMMARY:ACG Seattle: 2025 Crystal Mountain Ski Day
DESCRIPTION:
LOCATION:MTR Western Charter Bus at 601 S Grady Way\, Renton (parking 
 available around Starbucks or Uwajimaya Renton)\n33914 Crystal Mountai
 n Boulevard\nEnumclaw\\, WA 98022
URL:https://www.acg.org/seattle/events/acg-seattle-2025-crystal-mounta
 in-ski-day
DTSTAMP:20260422T155046Z
END:VEVENT
END:VCALENDAR
