BEGIN:VCALENDAR
VERSION:2.0
PRODID:-//ACG//Events//EN
CALSCALE:GREGORIAN
METHOD:PUBLISH
BEGIN:VTIMEZONE
TZID:America/Chicago
BEGIN:STANDARD
DTSTART:19701025T070000
TZOFFSETTO:-0600
TZOFFSETFROM:-0500
RRULE:FREQ=YEARLY;BYMONTH=11;BYDAY=1SU
END:STANDARD
BEGIN:DAYLIGHT
DTSTART:19700426T080000
TZOFFSETTO:-0500
TZOFFSETFROM:-0600
RRULE:FREQ=YEARLY;BYMONTH=3;BYDAY=2SU
END:DAYLIGHT
END:VTIMEZONE
BEGIN:VEVENT
UID:2025-ACG-NEBRASKA-WOMEN-S-EVENT-NEW-YEAR-NEW-YOU
DTSTART;TZID=America/Chicago:20250115T073053
DTEND;TZID=America/Chicago:20250115T093053
STATUS:CONFIRMED
SUMMARY:2025 ACG Nebraska Women's Event | New Year\, New You
DESCRIPTION:
LOCATION:The Reserves Network\n15858 West Dodge Road\nOmaha\\, NE 68118
URL:https://www.acg.org/nebraska/events/2025-acg-nebraska-womens-event
 -new-year-new-you
DTSTAMP:20260422T192114Z
END:VEVENT
END:VCALENDAR
