BEGIN:VCALENDAR
VERSION:2.0
PRODID:-//ACG//Events//EN
CALSCALE:GREGORIAN
METHOD:PUBLISH
BEGIN:VTIMEZONE
TZID:America/New_York
BEGIN:STANDARD
DTSTART:19701025T060000
TZOFFSETTO:-0500
TZOFFSETFROM:-0400
RRULE:FREQ=YEARLY;BYMONTH=11;BYDAY=1SU
END:STANDARD
BEGIN:DAYLIGHT
DTSTART:19700426T070000
TZOFFSETTO:-0400
TZOFFSETFROM:-0500
RRULE:FREQ=YEARLY;BYMONTH=3;BYDAY=2SU
END:DAYLIGHT
END:VTIMEZONE
BEGIN:VEVENT
UID:ACG-TAMPA-BAY-BAYCARE-S-EXPANDING-PRESENCE-THROUGH-ACQUISITION
DTSTART;TZID=America/New_York:20250128T173033
DTEND;TZID=America/New_York:20250128T200033
STATUS:CONFIRMED
SUMMARY:Adapting and Evolving in the Modern Health Care Landscape
DESCRIPTION:
LOCATION:Centre Club - Tampa\n123 South West Shore Boulevard\nTampa\\,
  FL 33609
URL:https://www.acg.org/tampabay/events/adapting-and-evolving-modern-h
 ealth-care-landscape
DTSTAMP:20260422T173142Z
END:VEVENT
END:VCALENDAR
