BEGIN:VCALENDAR
VERSION:2.0
PRODID:-//ACG//Events//EN
CALSCALE:GREGORIAN
METHOD:PUBLISH
BEGIN:VTIMEZONE
TZID:America/New_York
BEGIN:STANDARD
DTSTART:19701025T060000
TZOFFSETTO:-0500
TZOFFSETFROM:-0400
RRULE:FREQ=YEARLY;BYMONTH=11;BYDAY=1SU
END:STANDARD
BEGIN:DAYLIGHT
DTSTART:19700426T070000
TZOFFSETTO:-0400
TZOFFSETFROM:-0500
RRULE:FREQ=YEARLY;BYMONTH=3;BYDAY=2SU
END:DAYLIGHT
END:VTIMEZONE
BEGIN:VEVENT
UID:ACG-TAMPA-BAY-EMERGING-PROFESSIONALS-FEBRUARY-2025
DTSTART;TZID=America/New_York:20250213T173015
DTEND;TZID=America/New_York:20250213T180015
STATUS:CONFIRMED
SUMMARY:Deal or No Deal: The Investment Decision
DESCRIPTION:
LOCATION:Brio Italian Grille\n2223 North Westshore Boulevard\nTampa\\,
  FL 33607
URL:https://www.acg.org/tampabay/events/deal-or-no-deal-investment-decision
DTSTAMP:20260422T134048Z
END:VEVENT
END:VCALENDAR
