BEGIN:VCALENDAR
VERSION:2.0
PRODID:-//ACG//Events//EN
CALSCALE:GREGORIAN
METHOD:PUBLISH
BEGIN:VTIMEZONE
TZID:America/New_York
BEGIN:STANDARD
DTSTART:19701025T060000
TZOFFSETTO:-0500
TZOFFSETFROM:-0400
RRULE:FREQ=YEARLY;BYMONTH=11;BYDAY=1SU
END:STANDARD
BEGIN:DAYLIGHT
DTSTART:19700426T070000
TZOFFSETTO:-0400
TZOFFSETFROM:-0500
RRULE:FREQ=YEARLY;BYMONTH=3;BYDAY=2SU
END:DAYLIGHT
END:VTIMEZONE
BEGIN:VEVENT
UID:ACG-SOUTH-FLORIDA-11TH-ANNUAL-WINE-TASTING-HOLIDAY-PARTY
DTSTART;TZID=America/New_York:20251210T173005
DTEND;TZID=America/New_York:20251210T203020
STATUS:CONFIRMED
SUMMARY:ACG South Florida 11th Annual Wine Tasting & Holiday Party
DESCRIPTION:
LOCATION:Tower Club\n100 Southeast 3rd Avenue\nFort Lauderdale\\, FL 33304
URL:https://www.acg.org/southflorida/events/acg-south-florida-11th-ann
 ual-wine-tasting-holiday-party
DTSTAMP:20260422T111020Z
END:VEVENT
END:VCALENDAR
