BEGIN:VCALENDAR
VERSION:2.0
PRODID:-//ACG//Events//EN
CALSCALE:GREGORIAN
METHOD:PUBLISH
BEGIN:VTIMEZONE
TZID:America/New_York
BEGIN:STANDARD
DTSTART:19701025T060000
TZOFFSETTO:-0500
TZOFFSETFROM:-0400
RRULE:FREQ=YEARLY;BYMONTH=11;BYDAY=1SU
END:STANDARD
BEGIN:DAYLIGHT
DTSTART:19700426T070000
TZOFFSETTO:-0400
TZOFFSETFROM:-0500
RRULE:FREQ=YEARLY;BYMONTH=3;BYDAY=2SU
END:DAYLIGHT
END:VTIMEZONE
BEGIN:VEVENT
UID:ACG-MIAMI-NETWORK-MEMBERS-ONLY-SOCIAL-AT-REGATTA-GROVE
DTSTART;TZID=America/New_York:20250123T173010
DTEND;TZID=America/New_York:20250123T193021
STATUS:CONFIRMED
SUMMARY:ACG Miami Network Reception  at Regatta Grove: ACG Members-Only
DESCRIPTION:
LOCATION:Regatta Grove\n3415 Pan American Drive\nMiami\\, FL 33133
URL:https://www.acg.org/miami/events/acg-miami-network-reception-regat
 ta-grove-acg-members-only
DTSTAMP:20260422T173311Z
END:VEVENT
END:VCALENDAR
