BEGIN:VCALENDAR
VERSION:2.0
PRODID:-//ACG//Events//EN
CALSCALE:GREGORIAN
METHOD:PUBLISH
BEGIN:VTIMEZONE
TZID:America/New_York
BEGIN:STANDARD
DTSTART:19701025T060000
TZOFFSETTO:-0500
TZOFFSETFROM:-0400
RRULE:FREQ=YEARLY;BYMONTH=11;BYDAY=1SU
END:STANDARD
BEGIN:DAYLIGHT
DTSTART:19700426T070000
TZOFFSETTO:-0400
TZOFFSETFROM:-0500
RRULE:FREQ=YEARLY;BYMONTH=3;BYDAY=2SU
END:DAYLIGHT
END:VTIMEZONE
BEGIN:VEVENT
UID:ACG-ORLANDO-AI-PANEL
DTSTART;TZID=America/New_York:20250313T113012
DTEND;TZID=America/New_York:20250313T120012
STATUS:CONFIRMED
SUMMARY:AI in Action: Innovations\, Investments & the Future of AI
DESCRIPTION:
LOCATION:Citrus Club\n255 South Orange Avenue\nOrlando\\, FL 32801
URL:https://www.acg.org/orlando/events/ai-action-innovations-investmen
 ts-future-ai
DTSTAMP:20260421T170928Z
END:VEVENT
END:VCALENDAR
