BEGIN:VCALENDAR
VERSION:2.0
PRODID:-//ACG//Events//EN
CALSCALE:GREGORIAN
METHOD:PUBLISH
BEGIN:VTIMEZONE
TZID:America/New_York
BEGIN:STANDARD
DTSTART:19701025T060000
TZOFFSETTO:-0500
TZOFFSETFROM:-0400
RRULE:FREQ=YEARLY;BYMONTH=11;BYDAY=1SU
END:STANDARD
BEGIN:DAYLIGHT
DTSTART:19700426T070000
TZOFFSETTO:-0400
TZOFFSETFROM:-0500
RRULE:FREQ=YEARLY;BYMONTH=3;BYDAY=2SU
END:DAYLIGHT
END:VTIMEZONE
BEGIN:VEVENT
UID:YACG-CAREER-CONVERSATIONS-FEB-2024
DTSTART;TZID=America/New_York:20250206T120023
DTEND;TZID=America/New_York:20250206T123023
STATUS:CONFIRMED
SUMMARY:YACG Career Conversations (Feb. 2024)
DESCRIPTION:
LOCATION:Fifth Third Bank\n200 East Robinson Street\nOrlando\\, FL 32801
URL:https://www.acg.org/orlando/events/yacg-career-conversations-feb-2024
DTSTAMP:20260422T162154Z
END:VEVENT
END:VCALENDAR
