BEGIN:VCALENDAR
VERSION:2.0
PRODID:-//ACG//Events//EN
CALSCALE:GREGORIAN
METHOD:PUBLISH
BEGIN:VTIMEZONE
TZID:America/Chicago
BEGIN:STANDARD
DTSTART:19701025T070000
TZOFFSETTO:-0600
TZOFFSETFROM:-0500
RRULE:FREQ=YEARLY;BYMONTH=11;BYDAY=1SU
END:STANDARD
BEGIN:DAYLIGHT
DTSTART:19700426T080000
TZOFFSETTO:-0500
TZOFFSETFROM:-0600
RRULE:FREQ=YEARLY;BYMONTH=3;BYDAY=2SU
END:DAYLIGHT
END:VTIMEZONE
BEGIN:VEVENT
UID:TRANSFORMING-M-A-COST-EFFECTIVE-APPROACHES-TO-DUE-DILIGENCE-AND-PO
 ST-CLOSING-SUCCESS
DTSTART;TZID=America/Chicago:20250211T130001
DTEND;TZID=America/Chicago:20250211T140042
STATUS:CONFIRMED
SUMMARY:Transforming M&A: Cost-Effective Approaches to M&A and Post-Cl
 osing Success
DESCRIPTION:
LOCATION:Zoom\n
URL:https://www.acg.org/events/transforming-ma-cost-effective-approach
 es-ma-and-post-closing-success
DTSTAMP:20260422T134201Z
END:VEVENT
END:VCALENDAR
