BEGIN:VCALENDAR
VERSION:2.0
PRODID:-//ACG//Events//EN
CALSCALE:GREGORIAN
METHOD:PUBLISH
BEGIN:VTIMEZONE
TZID:America/Toronto
BEGIN:STANDARD
DTSTART:19701025T060000
TZOFFSETTO:-0500
TZOFFSETFROM:-0400
RRULE:FREQ=YEARLY;BYMONTH=11;BYDAY=1SU
END:STANDARD
BEGIN:DAYLIGHT
DTSTART:19700426T070000
TZOFFSETTO:-0400
TZOFFSETFROM:-0500
RRULE:FREQ=YEARLY;BYMONTH=3;BYDAY=2SU
END:DAYLIGHT
END:VTIMEZONE
BEGIN:VEVENT
UID:142343
DTSTART;TZID=America/Toronto:20250423T080000
DTEND;TZID=America/Toronto:20250424T200000
STATUS:CONFIRMED
SUMMARY: 6th Annual Ottawa Capital Connection - April 23 & 24\, 2025
DESCRIPTION:
LOCATION:Museum of Nature\n
URL:https://www.acg.org/toronto/events/6th-annual-ottawa-capital-conne
 ction-april-23-24-2025
DTSTAMP:20260422T040621Z
END:VEVENT
END:VCALENDAR
