BEGIN:VCALENDAR
VERSION:2.0
PRODID:-//ACG//Events//EN
CALSCALE:GREGORIAN
METHOD:PUBLISH
BEGIN:VTIMEZONE
TZID:America/Los_Angeles
BEGIN:STANDARD
DTSTART:19701025T090000
TZOFFSETTO:-0800
TZOFFSETFROM:-0700
RRULE:FREQ=YEARLY;BYMONTH=11;BYDAY=1SU
END:STANDARD
BEGIN:DAYLIGHT
DTSTART:19700426T100000
TZOFFSETTO:-0700
TZOFFSETFROM:-0800
RRULE:FREQ=YEARLY;BYMONTH=3;BYDAY=2SU
END:DAYLIGHT
END:VTIMEZONE
BEGIN:VEVENT
UID:ACG-SILICON-VALLEY-FEMALE-EXECUTIVE-LEADERS-CIRCLE-FEL-FEBRUARY-20-2024
DTSTART;TZID=America/Los_Angeles:20250220T170021
DTEND;TZID=America/Los_Angeles:20250220T190035
STATUS:CONFIRMED
SUMMARY:ACG Silicon Valley Female Executive Leaders Circle (FEL)\, Feb
 ruary 20\, 2025
DESCRIPTION:
LOCATION:The Ameswell Hotel\, Roger Bar\n800 Moffett Boulevard\nMounta
 in View\\, CA 94043
URL:https://www.acg.org/sv/events/acg-silicon-valley-female-executive-
 leaders-circle-fel-february-20-2025
DTSTAMP:20260422T115904Z
END:VEVENT
END:VCALENDAR
