BEGIN:VCALENDAR
VERSION:2.0
PRODID:-//ACG//Events//EN
CALSCALE:GREGORIAN
METHOD:PUBLISH
BEGIN:VTIMEZONE
TZID:America/Chicago
BEGIN:STANDARD
DTSTART:19701025T070000
TZOFFSETTO:-0600
TZOFFSETFROM:-0500
RRULE:FREQ=YEARLY;BYMONTH=11;BYDAY=1SU
END:STANDARD
BEGIN:DAYLIGHT
DTSTART:19700426T080000
TZOFFSETTO:-0500
TZOFFSETFROM:-0600
RRULE:FREQ=YEARLY;BYMONTH=3;BYDAY=2SU
END:DAYLIGHT
END:VTIMEZONE
BEGIN:VEVENT
UID:2025-STL-EMERGING-20-ALUMNI-NETWORKING-EVENT-BY-INVITATION-ONLY
DTSTART;TZID=America/Chicago:20250225T170056
DTEND;TZID=America/Chicago:20250225T190056
STATUS:CONFIRMED
SUMMARY:2025 STL | Emerging 20\, Alumni Networking Event (By Invitatio
 n Only)
DESCRIPTION:
LOCATION:The Cheshire | Boundary\n6300 Clayton Road\nRichmond Heights\
 \, MO 63117
URL:https://www.acg.org/stlouis/events/2025-stl-emerging-20-alumni-net
 working-event-invitation-only
DTSTAMP:20260422T114455Z
END:VEVENT
END:VCALENDAR
