BEGIN:VCALENDAR
VERSION:2.0
PRODID:-//ACG//Events//EN
CALSCALE:GREGORIAN
METHOD:PUBLISH
BEGIN:VTIMEZONE
TZID:America/Chicago
BEGIN:STANDARD
DTSTART:19701025T070000
TZOFFSETTO:-0600
TZOFFSETFROM:-0500
RRULE:FREQ=YEARLY;BYMONTH=11;BYDAY=1SU
END:STANDARD
BEGIN:DAYLIGHT
DTSTART:19700426T080000
TZOFFSETTO:-0500
TZOFFSETFROM:-0600
RRULE:FREQ=YEARLY;BYMONTH=3;BYDAY=2SU
END:DAYLIGHT
END:VTIMEZONE
BEGIN:VEVENT
UID:2025-STL-EMERGING-20-SESSION-3-THE-MULTI-FUNCTIONAL-M-A-TEAM-BY-IN
 VITATION-ONLY
DTSTART;TZID=America/Chicago:20250306T160012
DTEND;TZID=America/Chicago:20250306T180037
STATUS:CONFIRMED
SUMMARY:2025 STL | Emerging 20\, Session 3: The Multi-Functional M&A T
 eam (By Invitation Only)
DESCRIPTION:
LOCATION:RubinBrown\n7676 Forsyth Boulevard\nClayton\\, MO 63105
URL:https://www.acg.org/stlouis/events/2025-stl-emerging-20-session-3-
 multi-functional-ma-team-invitation-only
DTSTAMP:20260422T114813Z
END:VEVENT
END:VCALENDAR
