BEGIN:VCALENDAR
VERSION:2.0
PRODID:-//ACG//Events//EN
CALSCALE:GREGORIAN
METHOD:PUBLISH
BEGIN:VTIMEZONE
TZID:America/Phoenix
BEGIN:STANDARD
DTSTART:19700101T060000
TZOFFSETTO:-0700
TZOFFSETFROM:-0700
END:STANDARD
END:VTIMEZONE
BEGIN:VEVENT
UID:2025-ACG-ARIZONA-YOUNG-DEALMAKERS-NETWORKING-EVENT-FEATURING-PANEL
 -DISCUSSION
DTSTART;TZID=America/Phoenix:20250122T160026
DTEND;TZID=America/Phoenix:20250122T190026
STATUS:CONFIRMED
SUMMARY:2025 ACG Arizona Young Dealmakers Networking Event Featuring P
 anel Discussion
DESCRIPTION:
URL:https://www.acg.org/arizona/events/2025-acg-arizona-young-dealmake
 rs-networking-event-featuring-panel-discussion
DTSTAMP:20260422T222209Z
END:VEVENT
END:VCALENDAR
