BEGIN:VCALENDAR
VERSION:2.0
PRODID:-//ACG//Events//EN
CALSCALE:GREGORIAN
METHOD:PUBLISH
BEGIN:VTIMEZONE
TZID:America/New_York
BEGIN:STANDARD
DTSTART:19701025T060000
TZOFFSETTO:-0500
TZOFFSETFROM:-0400
RRULE:FREQ=YEARLY;BYMONTH=11;BYDAY=1SU
END:STANDARD
BEGIN:DAYLIGHT
DTSTART:19700426T070000
TZOFFSETTO:-0400
TZOFFSETFROM:-0500
RRULE:FREQ=YEARLY;BYMONTH=3;BYDAY=2SU
END:DAYLIGHT
END:VTIMEZONE
BEGIN:VEVENT
UID:JAN-2025-PIEDMONT-TRIAD-M-A-OUTLOOK-PANEL
DTSTART;TZID=America/New_York:20250130T113025
DTEND;TZID=America/New_York:20250130T130025
STATUS:CONFIRMED
SUMMARY:Jan 2025 Piedmont Triad | M&A Outlook Panel
DESCRIPTION:
LOCATION:The Offices of Charles Aris\n299 North Greene Street\nGreensb
 oro\\, NC 27401
URL:https://www.acg.org/piedmont-triad-network/events/jan-2025-piedmon
 t-triad-ma-outlook-panel
DTSTAMP:20260422T173231Z
END:VEVENT
END:VCALENDAR
