BEGIN:VCALENDAR
VERSION:2.0
PRODID:-//ACG//Events//EN
CALSCALE:GREGORIAN
METHOD:PUBLISH
BEGIN:VTIMEZONE
TZID:Europe/Madrid
BEGIN:STANDARD
DTSTART:19700101T060000
TZOFFSETTO:+0100
TZOFFSETFROM:+0100
END:STANDARD
END:VTIMEZONE
BEGIN:VEVENT
UID:142380
DTSTART;TZID=Europe/Madrid:20250114T083000
DTEND;TZID=Europe/Madrid:20250114T100000
STATUS:CONFIRMED
SUMMARY:Mesa redonda sobre el crecimiento y el futuro de la industria 
 del entretenimiento.
DESCRIPTION:
LOCATION:Círculo Ecuestre\nCírculo Ecuestre\nBalmes\, 169\nBarcelona
 \\, Barcelona 08021
URL:https://www.acg.org/spain/events/mesa-redonda-sobre-el-crecimiento
 -y-el-futuro-de-la-industria-del-entretenimiento
DTSTAMP:20260422T192153Z
END:VEVENT
END:VCALENDAR
