BEGIN:VCALENDAR
VERSION:2.0
PRODID:-//ACG//Events//EN
CALSCALE:GREGORIAN
METHOD:PUBLISH
BEGIN:VTIMEZONE
TZID:America/New_York
BEGIN:STANDARD
DTSTART:19701025T060000
TZOFFSETTO:-0500
TZOFFSETFROM:-0400
RRULE:FREQ=YEARLY;BYMONTH=11;BYDAY=1SU
END:STANDARD
BEGIN:DAYLIGHT
DTSTART:19700426T070000
TZOFFSETTO:-0400
TZOFFSETFROM:-0500
RRULE:FREQ=YEARLY;BYMONTH=3;BYDAY=2SU
END:DAYLIGHT
END:VTIMEZONE
BEGIN:VEVENT
UID:ACG-DETROIT-WOMEN-S-FORUM-FEBRUARY-2025-COFFEE-CONNECTIONS
DTSTART;TZID=America/New_York:20250213T080032
DTEND;TZID=America/New_York:20250213T100051
STATUS:CONFIRMED
SUMMARY:ACG Detroit | Women's Forum - February 2025 Coffee & Connections
DESCRIPTION:
LOCATION:BDO\n2600 West Big Beaver Road\nTroy\\, MI 48084
URL:https://www.acg.org/detroit/events/acg-detroit-womens-forum-februa
 ry-2025-coffee-connections
DTSTAMP:20260422T134119Z
END:VEVENT
END:VCALENDAR
