BEGIN:VCALENDAR
VERSION:2.0
PRODID:-//ACG//Events//EN
CALSCALE:GREGORIAN
METHOD:PUBLISH
BEGIN:VTIMEZONE
TZID:America/Chicago
BEGIN:STANDARD
DTSTART:19701025T070000
TZOFFSETTO:-0600
TZOFFSETFROM:-0500
RRULE:FREQ=YEARLY;BYMONTH=11;BYDAY=1SU
END:STANDARD
BEGIN:DAYLIGHT
DTSTART:19700426T080000
TZOFFSETTO:-0500
TZOFFSETFROM:-0600
RRULE:FREQ=YEARLY;BYMONTH=3;BYDAY=2SU
END:DAYLIGHT
END:VTIMEZONE
BEGIN:VEVENT
UID:2025-ACG-WI-CORPORATE-DEVELOPMENT-SERIES-BUYING-A-COMPANY-PLAN-FOR
 -SUCCESS-BEFORE-YOU-CLOSE
DTSTART;TZID=America/Chicago:20250116T153049
DTEND;TZID=America/Chicago:20250116T180012
STATUS:CONFIRMED
SUMMARY:2025 ACG WI Corporate Development Series | Buying a Company? P
 lan for Success Before You Close
DESCRIPTION:
LOCATION:CIBC Capital Markets\n411 East Wisconsin Avenue\nMilwaukee\\,
  WI 53202
URL:https://www.acg.org/wisconsin/events/2025-acg-wi-corporate-develop
 ment-series-buying-company-plan-success-you-close
DTSTAMP:20260422T173229Z
END:VEVENT
END:VCALENDAR
