BEGIN:VCALENDAR
VERSION:2.0
PRODID:-//ACG//Events//EN
CALSCALE:GREGORIAN
METHOD:PUBLISH
BEGIN:VTIMEZONE
TZID:America/Chicago
BEGIN:STANDARD
DTSTART:19701025T070000
TZOFFSETTO:-0600
TZOFFSETFROM:-0500
RRULE:FREQ=YEARLY;BYMONTH=11;BYDAY=1SU
END:STANDARD
BEGIN:DAYLIGHT
DTSTART:19700426T080000
TZOFFSETTO:-0500
TZOFFSETFROM:-0600
RRULE:FREQ=YEARLY;BYMONTH=3;BYDAY=2SU
END:DAYLIGHT
END:VTIMEZONE
BEGIN:VEVENT
UID:2025-ACG-WI-WOMEN-S-NETWORK-INTERGENERATIONAL-PANEL-DISCUSSION
DTSTART;TZID=America/Chicago:20250121T160029
DTEND;TZID=America/Chicago:20250121T180006
STATUS:CONFIRMED
SUMMARY:2025 ACG WI Women's Network | Intergenerational Panel Discussion
DESCRIPTION:
LOCATION:OwnersEdge\nN16W23217 Stone Ridge Drive\nWaukesha\\, WI 53188
URL:https://www.acg.org/wisconsin/events/2025-acg-wi-womens-network-in
 tergenerational-panel-discussion
DTSTAMP:20260422T173143Z
END:VEVENT
END:VCALENDAR
