BEGIN:VCALENDAR
VERSION:2.0
PRODID:-//ACG//Events//EN
CALSCALE:GREGORIAN
METHOD:PUBLISH
BEGIN:VTIMEZONE
TZID:US/Mountain
BEGIN:STANDARD
DTSTART:19701025T080000
TZOFFSETTO:-0700
TZOFFSETFROM:-0600
RRULE:FREQ=YEARLY;BYMONTH=11;BYDAY=1SU
END:STANDARD
BEGIN:DAYLIGHT
DTSTART:19700426T090000
TZOFFSETTO:-0600
TZOFFSETFROM:-0700
RRULE:FREQ=YEARLY;BYMONTH=3;BYDAY=2SU
END:DAYLIGHT
END:VTIMEZONE
BEGIN:VEVENT
UID:UTAH-WPN-AWARDS-LUNCHEON
DTSTART;TZID=US/Mountain:20250327T113022
DTEND;TZID=US/Mountain:20250327T130055
STATUS:CONFIRMED
SUMMARY:Utah\, WPN Awards Luncheon
DESCRIPTION:
LOCATION:Zions Bank Building\n1 South Main Street\nSalt Lake City\\, U
 T 84111
URL:https://www.acg.org/utah/events/utah-wpn-awards-luncheon
DTSTAMP:20260422T060830Z
END:VEVENT
END:VCALENDAR
