BEGIN:VCALENDAR
VERSION:2.0
PRODID:-//ACG//Events//EN
CALSCALE:GREGORIAN
METHOD:PUBLISH
BEGIN:VTIMEZONE
TZID:America/Los_Angeles
BEGIN:STANDARD
DTSTART:19701025T090000
TZOFFSETTO:-0800
TZOFFSETFROM:-0700
RRULE:FREQ=YEARLY;BYMONTH=11;BYDAY=1SU
END:STANDARD
BEGIN:DAYLIGHT
DTSTART:19700426T100000
TZOFFSETTO:-0700
TZOFFSETFROM:-0800
RRULE:FREQ=YEARLY;BYMONTH=3;BYDAY=2SU
END:DAYLIGHT
END:VTIMEZONE
BEGIN:VEVENT
UID:ACGOC-2025-WILD-GOOSE-TAVERN-04-17-2025
DTSTART;TZID=America/Los_Angeles:20250417T173037
DTEND;TZID=America/Los_Angeles:20250417T193035
STATUS:CONFIRMED
SUMMARY:ACGOC 2025 Wild Goose Tavern - 04.17.2025
DESCRIPTION:
LOCATION:Wild Goose Tavern\n436 East 17th Street\nCosta Mesa\\, CA 92627
URL:https://www.acg.org/occ/events/acgoc-2025-wild-goose-tavern-04172025
DTSTAMP:20260422T040501Z
END:VEVENT
END:VCALENDAR
