BEGIN:VCALENDAR
VERSION:2.0
PRODID:-//ACG//Events//EN
CALSCALE:GREGORIAN
METHOD:PUBLISH
BEGIN:VTIMEZONE
TZID:America/New_York
BEGIN:STANDARD
DTSTART:19701025T060000
TZOFFSETTO:-0500
TZOFFSETFROM:-0400
RRULE:FREQ=YEARLY;BYMONTH=11;BYDAY=1SU
END:STANDARD
BEGIN:DAYLIGHT
DTSTART:19700426T070000
TZOFFSETTO:-0400
TZOFFSETFROM:-0500
RRULE:FREQ=YEARLY;BYMONTH=3;BYDAY=2SU
END:DAYLIGHT
END:VTIMEZONE
BEGIN:VEVENT
UID:2024RIC-PICKLEBALL-LEARN-PLAY-SIP-AND-NETWORK
DTSTART;TZID=America/New_York:20250327T160015
DTEND;TZID=America/New_York:20250327T180017
STATUS:CONFIRMED
SUMMARY:2025RIC: Pickleball: Learn\, Play\, Sip and Network
DESCRIPTION:
LOCATION:Performance Pickleball RVA\n8641 Quioccasin Road\nHenrico\\, 
 VA 23229
URL:https://www.acg.org/richmond/events/2025ric-pickleball-learn-play-
 sip-and-network
DTSTAMP:20260422T081351Z
END:VEVENT
END:VCALENDAR
