BEGIN:VCALENDAR
VERSION:2.0
PRODID:-//ACG//Events//EN
CALSCALE:GREGORIAN
METHOD:PUBLISH
BEGIN:VTIMEZONE
TZID:America/Los_Angeles
BEGIN:STANDARD
DTSTART:19701025T090000
TZOFFSETTO:-0800
TZOFFSETFROM:-0700
RRULE:FREQ=YEARLY;BYMONTH=11;BYDAY=1SU
END:STANDARD
BEGIN:DAYLIGHT
DTSTART:19700426T100000
TZOFFSETTO:-0700
TZOFFSETFROM:-0800
RRULE:FREQ=YEARLY;BYMONTH=3;BYDAY=2SU
END:DAYLIGHT
END:VTIMEZONE
BEGIN:VEVENT
UID:ACG-OC-NEXTGEN-HAPPY-HOUR-NETWORKING-CRAFT-BEER-AT-OLD-STUMP-BREWI
 NG-CO-02-13-25
DTSTART;TZID=America/Los_Angeles:20250213T173030
DTEND;TZID=America/Los_Angeles:20250213T193030
STATUS:CONFIRMED
SUMMARY:Inland Empire NextGen Happy Hour: Networking & Craft Beer at O
 ld Stump Brewing Co. - 02.13.25
DESCRIPTION:
LOCATION:Old Stump Brewing Co.\n2896 Metropolitan Place\nPomona\\, CA 91767
URL:https://www.acg.org/occ/events/inland-empire-nextgen-happy-hour-ne
 tworking-craft-beer-old-stump-brewing-co-021325
DTSTAMP:20260422T133922Z
END:VEVENT
END:VCALENDAR
