BEGIN:VCALENDAR
VERSION:2.0
PRODID:-//ACG//Events//EN
CALSCALE:GREGORIAN
METHOD:PUBLISH
BEGIN:VTIMEZONE
TZID:America/Chicago
BEGIN:STANDARD
DTSTART:19701025T070000
TZOFFSETTO:-0600
TZOFFSETFROM:-0500
RRULE:FREQ=YEARLY;BYMONTH=11;BYDAY=1SU
END:STANDARD
BEGIN:DAYLIGHT
DTSTART:19700426T080000
TZOFFSETTO:-0500
TZOFFSETFROM:-0600
RRULE:FREQ=YEARLY;BYMONTH=3;BYDAY=2SU
END:DAYLIGHT
END:VTIMEZONE
BEGIN:VEVENT
UID:2025-ACG-ASA-JAN-22ND-LUNCH-IN-SAN-MARCOS
DTSTART;TZID=America/Chicago:20250122T113005
DTEND;TZID=America/Chicago:20250122T130020
STATUS:CONFIRMED
SUMMARY:2025 ACG ASA Jan 22nd Lunch in San Marcos
DESCRIPTION:
LOCATION:Holiday Inn San Marcos\n105 Bintu Drive\nSan Marcos\\, TX 78666
URL:https://www.acg.org/asa/events/2025-acg-asa-jan-22nd-lunch-san-marcos
DTSTAMP:20260422T215752Z
END:VEVENT
END:VCALENDAR
