BEGIN:VCALENDAR
VERSION:2.0
PRODID:-//ACG//Events//EN
CALSCALE:GREGORIAN
METHOD:PUBLISH
BEGIN:VTIMEZONE
TZID:US/Eastern
BEGIN:STANDARD
DTSTART:19701025T060000
TZOFFSETTO:-0500
TZOFFSETFROM:-0400
RRULE:FREQ=YEARLY;BYMONTH=11;BYDAY=1SU
END:STANDARD
BEGIN:DAYLIGHT
DTSTART:19700426T070000
TZOFFSETTO:-0400
TZOFFSETFROM:-0500
RRULE:FREQ=YEARLY;BYMONTH=3;BYDAY=2SU
END:DAYLIGHT
END:VTIMEZONE
BEGIN:VEVENT
UID:M-A-SOUTH-2025-SPARKLING-CONNECTIONS-OPENING-RECEPTION
DTSTART;TZID=US/Eastern:20250203T150053
DTEND;TZID=US/Eastern:20250203T163010
STATUS:CONFIRMED
SUMMARY:Sparkling Connections at M&A South 2025
DESCRIPTION:
LOCATION:Anthropologie\n4180 Avalon Boulevard\nAlpharetta\\, GA 30009
URL:https://www.acg.org/atlanta/events/sparkling-connections-ma-south-2025
DTSTAMP:20260422T173143Z
END:VEVENT
END:VCALENDAR
