BEGIN:VCALENDAR
VERSION:2.0
PRODID:-//ACG//Events//EN
CALSCALE:GREGORIAN
METHOD:PUBLISH
BEGIN:VTIMEZONE
TZID:America/New_York
BEGIN:STANDARD
DTSTART:19701025T060000
TZOFFSETTO:-0500
TZOFFSETFROM:-0400
RRULE:FREQ=YEARLY;BYMONTH=11;BYDAY=1SU
END:STANDARD
BEGIN:DAYLIGHT
DTSTART:19700426T070000
TZOFFSETTO:-0400
TZOFFSETFROM:-0500
RRULE:FREQ=YEARLY;BYMONTH=3;BYDAY=2SU
END:DAYLIGHT
END:VTIMEZONE
BEGIN:VEVENT
UID:POST-TRANSACTION-M-A-GETTING-TO-AND-THROUGH-INTEGRATION
DTSTART;TZID=America/New_York:20250227T073001
DTEND;TZID=America/New_York:20250227T093001
STATUS:CONFIRMED
SUMMARY:Post Transaction M&A: Getting to and Through Integration
DESCRIPTION:
LOCATION:VALO Park\n7950 Jones Branch Drive\nTysons\\, VA 22102
URL:https://www.acg.org/national-capital/events/post-transaction-ma-ge
 tting-and-through-integration
DTSTAMP:20260422T114558Z
END:VEVENT
END:VCALENDAR
