BEGIN:VCALENDAR
VERSION:2.0
PRODID:-//ACG//Events//EN
CALSCALE:GREGORIAN
METHOD:PUBLISH
BEGIN:VTIMEZONE
TZID:US/Eastern
BEGIN:STANDARD
DTSTART:19701025T060000
TZOFFSETTO:-0500
TZOFFSETFROM:-0400
RRULE:FREQ=YEARLY;BYMONTH=11;BYDAY=1SU
END:STANDARD
BEGIN:DAYLIGHT
DTSTART:19700426T070000
TZOFFSETTO:-0400
TZOFFSETFROM:-0500
RRULE:FREQ=YEARLY;BYMONTH=3;BYDAY=2SU
END:DAYLIGHT
END:VTIMEZONE
BEGIN:VEVENT
UID:EMERGING-LEADERS-BREAKFAST-AT-M-A-SOUTH-2025
DTSTART;TZID=US/Eastern:20250204T073054
DTEND;TZID=US/Eastern:20250204T090005
STATUS:CONFIRMED
SUMMARY:Emerging Leaders Breakfast at M&A South 2025
DESCRIPTION:
LOCATION:South City Kitchen\n9000 Avalon Boulevard\nAlpharetta\\, GA 30009
URL:https://www.acg.org/atlanta/events/emerging-leaders-breakfast-ma-s
 outh-2025
DTSTAMP:20260422T160938Z
END:VEVENT
END:VCALENDAR
