BEGIN:VCALENDAR
VERSION:2.0
PRODID:-//ACG//Events//EN
CALSCALE:GREGORIAN
METHOD:PUBLISH
BEGIN:VTIMEZONE
TZID:America/Detroit
BEGIN:STANDARD
DTSTART:19700101T060000
TZOFFSETTO:-0500
TZOFFSETFROM:-0500
END:STANDARD
END:VTIMEZONE
BEGIN:VEVENT
UID:142844
DTSTART;TZID=America/Detroit:20250221T153000
DTEND;TZID=America/Detroit:20250221T200000
STATUS:CONFIRMED
SUMMARY:ACG Cup 2025 presents Career Conversations + Finance Feud
DESCRIPTION:
LOCATION:Embassy Suites downtown\nEmbassy Suites \n710 Monroe Ave\, NW
 \nGrand Rapids\\, MI 49504
URL:https://www.acg.org/wmich/events/acg-cup-2025-presents-career-conv
 ersations-finance-feud
DTSTAMP:20260422T114638Z
END:VEVENT
END:VCALENDAR
