BEGIN:VCALENDAR
VERSION:2.0
PRODID:-//ACG//Events//EN
CALSCALE:GREGORIAN
METHOD:PUBLISH
BEGIN:VTIMEZONE
TZID:America/Chicago
BEGIN:STANDARD
DTSTART:19701025T070000
TZOFFSETTO:-0600
TZOFFSETFROM:-0500
RRULE:FREQ=YEARLY;BYMONTH=11;BYDAY=1SU
END:STANDARD
BEGIN:DAYLIGHT
DTSTART:19700426T080000
TZOFFSETTO:-0500
TZOFFSETFROM:-0600
RRULE:FREQ=YEARLY;BYMONTH=3;BYDAY=2SU
END:DAYLIGHT
END:VTIMEZONE
BEGIN:VEVENT
UID:2025-ACG-WI-NEXTGEN-SPEED-NETWORKING
DTSTART;TZID=America/Chicago:20250205T170026
DTEND;TZID=America/Chicago:20250205T193043
STATUS:CONFIRMED
SUMMARY:2025 ACG WI NextGen | Speed Networking
DESCRIPTION:
LOCATION:BDO - Milwaukee Office\, 1st Floor Conference Room\n330 East 
 Kilbourn Avenue\nMilwaukee\\, WI 53202
URL:https://www.acg.org/wisconsin/events/2025-acg-wi-nextgen-speed-net
 working
DTSTAMP:20260422T155249Z
END:VEVENT
END:VCALENDAR
