BEGIN:VCALENDAR
VERSION:2.0
PRODID:-//ACG//Events//EN
CALSCALE:GREGORIAN
METHOD:PUBLISH
BEGIN:VTIMEZONE
TZID:America/New_York
BEGIN:STANDARD
DTSTART:19701025T060000
TZOFFSETTO:-0500
TZOFFSETFROM:-0400
RRULE:FREQ=YEARLY;BYMONTH=11;BYDAY=1SU
END:STANDARD
BEGIN:DAYLIGHT
DTSTART:19700426T070000
TZOFFSETTO:-0400
TZOFFSETFROM:-0500
RRULE:FREQ=YEARLY;BYMONTH=3;BYDAY=2SU
END:DAYLIGHT
END:VTIMEZONE
BEGIN:VEVENT
UID:2025-CHARLESTON-MEMBER-ONLY-NETWORK-COFFEE-CONNECTIONS
DTSTART;TZID=America/New_York:20250212T083022
DTEND;TZID=America/New_York:20250212T093022
STATUS:CONFIRMED
SUMMARY:2025 Charleston Member Only Network Coffee Connections
DESCRIPTION:
LOCATION:SightSee\n698 Rutledge Avenue\nCharleston\\, SC 29403
URL:https://www.acg.org/charleston/events/2025-charleston-member-only-
 network-coffee-connections
DTSTAMP:20260422T134047Z
END:VEVENT
END:VCALENDAR
