BEGIN:VCALENDAR
VERSION:2.0
PRODID:-//ACG//Events//EN
CALSCALE:GREGORIAN
METHOD:PUBLISH
BEGIN:VTIMEZONE
TZID:America/New_York
BEGIN:STANDARD
DTSTART:19701025T060000
TZOFFSETTO:-0500
TZOFFSETFROM:-0400
RRULE:FREQ=YEARLY;BYMONTH=11;BYDAY=1SU
END:STANDARD
BEGIN:DAYLIGHT
DTSTART:19700426T070000
TZOFFSETTO:-0400
TZOFFSETFROM:-0500
RRULE:FREQ=YEARLY;BYMONTH=3;BYDAY=2SU
END:DAYLIGHT
END:VTIMEZONE
BEGIN:VEVENT
UID:2025-CHARLESTON-BLACK-HISTORY-BLACK-OWNED-BUSINESS-PANEL
DTSTART;TZID=America/New_York:20250220T163042
DTEND;TZID=America/New_York:20250220T183042
STATUS:CONFIRMED
SUMMARY:2025 Charleston Black History / Black Owned Business Panel
DESCRIPTION:
LOCATION:Segra Room at the Charleston RiverDogs\n360 Fishburne Street\
 nCharleston\\, SC 29403
URL:https://www.acg.org/charleston/events/2025-charleston-black-histor
 y-black-owned-business-panel
DTSTAMP:20260422T134023Z
END:VEVENT
END:VCALENDAR
