BEGIN:VCALENDAR
VERSION:2.0
PRODID:-//ACG//Events//EN
CALSCALE:GREGORIAN
METHOD:PUBLISH
BEGIN:VTIMEZONE
TZID:America/New_York
BEGIN:STANDARD
DTSTART:19701025T060000
TZOFFSETTO:-0500
TZOFFSETFROM:-0400
RRULE:FREQ=YEARLY;BYMONTH=11;BYDAY=1SU
END:STANDARD
BEGIN:DAYLIGHT
DTSTART:19700426T070000
TZOFFSETTO:-0400
TZOFFSETFROM:-0500
RRULE:FREQ=YEARLY;BYMONTH=3;BYDAY=2SU
END:DAYLIGHT
END:VTIMEZONE
BEGIN:VEVENT
UID:YACG-ORLANDO-LUNCH-LEARN-FEB
DTSTART;TZID=America/New_York:20250225T113052
DTEND;TZID=America/New_York:20250225T133002
STATUS:CONFIRMED
SUMMARY:YACG Orlando Lunch & Learn: Elevate Your Brand & Build Lasting
  Connections
DESCRIPTION:
LOCATION:Cocina 214\n151 East Welbourne Avenue\nWinter Park\\, FL 32789
URL:https://www.acg.org/orlando/events/yacg-orlando-lunch-learn-elevat
 e-your-brand-build-lasting-connections
DTSTAMP:20260422T114455Z
END:VEVENT
END:VCALENDAR
