BEGIN:VCALENDAR
VERSION:2.0
PRODID:-//ACG//Events//EN
CALSCALE:GREGORIAN
METHOD:PUBLISH
BEGIN:VTIMEZONE
TZID:US/Eastern
BEGIN:STANDARD
DTSTART:19701025T060000
TZOFFSETTO:-0500
TZOFFSETFROM:-0400
RRULE:FREQ=YEARLY;BYMONTH=11;BYDAY=1SU
END:STANDARD
BEGIN:DAYLIGHT
DTSTART:19700426T070000
TZOFFSETTO:-0400
TZOFFSETFROM:-0500
RRULE:FREQ=YEARLY;BYMONTH=3;BYDAY=2SU
END:DAYLIGHT
END:VTIMEZONE
BEGIN:VEVENT
UID:ACG-NJ-CEO-FORUM-FEBRUARY-27-2025
DTSTART;TZID=US/Eastern:20250227T173018
DTEND;TZID=US/Eastern:20250227T203034
STATUS:CONFIRMED
SUMMARY:ACG NJ CEO Forum February 27\, 2025
DESCRIPTION:
URL:https://www.acg.org/newjersey/events/acg-nj-ceo-forum-february-27-2025
DTSTAMP:20260422T115956Z
END:VEVENT
END:VCALENDAR
